BEGIN:VCALENDAR
VERSION:2.0
PRODID:-//APINOV - ECPv6.15.20//NONSGML v1.0//EN
CALSCALE:GREGORIAN
METHOD:PUBLISH
X-ORIGINAL-URL:https://www.apinov.com
X-WR-CALDESC:Évènements pour APINOV
REFRESH-INTERVAL;VALUE=DURATION:PT1H
X-Robots-Tag:noindex
X-PUBLISHED-TTL:PT1H
BEGIN:VTIMEZONE
TZID:Europe/Paris
BEGIN:DAYLIGHT
TZOFFSETFROM:+0100
TZOFFSETTO:+0200
TZNAME:CEST
DTSTART:20200329T010000
END:DAYLIGHT
BEGIN:STANDARD
TZOFFSETFROM:+0200
TZOFFSETTO:+0100
TZNAME:CET
DTSTART:20201025T010000
END:STANDARD
BEGIN:DAYLIGHT
TZOFFSETFROM:+0100
TZOFFSETTO:+0200
TZNAME:CEST
DTSTART:20210328T010000
END:DAYLIGHT
BEGIN:STANDARD
TZOFFSETFROM:+0200
TZOFFSETTO:+0100
TZNAME:CET
DTSTART:20211031T010000
END:STANDARD
BEGIN:DAYLIGHT
TZOFFSETFROM:+0100
TZOFFSETTO:+0200
TZNAME:CEST
DTSTART:20220327T010000
END:DAYLIGHT
BEGIN:STANDARD
TZOFFSETFROM:+0200
TZOFFSETTO:+0100
TZNAME:CET
DTSTART:20221030T010000
END:STANDARD
END:VTIMEZONE
BEGIN:VEVENT
DTSTART;TZID=Europe/Paris:20211118T090000
DTEND;TZID=Europe/Paris:20211119T173000
DTSTAMP:20260424T111046
CREATED:20211110T062409Z
LAST-MODIFIED:20211129T161922Z
UID:10219-1637226000-1637343000@www.apinov.com
SUMMARY:Optimisez votre exploitation apicole grâce à une stratégie claire et efficace
DESCRIPTION:L’équipe d’Apinov vous propose une formation dynamique alliant théorie\, exemples d’application et réflexion personnelle. Vous serez en mesure de mettre en place votre propre stratégie professionnelle pour gagner en efficacité et en sérénité. Au programme : \n\nComprendre ce qu’est la stratégie et ce qu’elle implique\nDéfinir les fondations de sa stratégie\nDéfinir ses objectifs et les décliner en projets opérationnels\nGérer le quotidien pour ne pas se laisser déborder\n\nApinov vous accueille de 09h00 à 17h30 les deux jours de formation. Programme\, réservation et inscription directement en ligne en cliquant ICI. Plus d’infos à contact@apinov.com ou directement au 05.46.34.10.71. \nCouplez cette session de formation avec la formation : “Conduite d’exploitation apicole : Améliorer l’organisation et la productivité de votre cheptel” des 22 et 23 novembre 2021 !
URL:https://www.apinov.com/event/formation-optimisez-votre-exploitation-apicole-grace-a-une-strategie-claire-et-efficace/
LOCATION:Apinov\, Bâtiment l’Hexagone – 10 rue Henri Bessemer\, Lagord\, 17140\, France
CATEGORIES:Gestion d'exploitation
ATTACH;FMTTYPE=image/jpeg:https://www.apinov.com/wp-content/uploads/2021/09/optimisez-votre-exploitation_03.jpg
END:VEVENT
BEGIN:VEVENT
DTSTART;TZID=Europe/Paris:20211122T090000
DTEND;TZID=Europe/Paris:20211123T173000
DTSTAMP:20260424T111046
CREATED:20211110T063242Z
LAST-MODIFIED:20211129T162717Z
UID:10223-1637571600-1637688600@www.apinov.com
SUMMARY:Conduite d’exploitation apicole
DESCRIPTION:Apinov vous propose\, les 22 et 23 novembre 2021\, une formation “Conduite d’exploitation apicole”. Grâce à cette formation théorique et interactive\, centrée sur les méthodes de gestion des ruches\, vous définirez votre plan de conduite d’exploitation\, en accord avec votre stratégie d’entreprise. Au programme : \n\nDéfinir ses objectifs et son plan de production\nRationaliser ses visites et transhumances de ruches\nOptimiser sa conduite de cheptel en saison\nAnticiper la prochaine saison et réduire ses pertes\n\nApinov vous accueille de 09h00 à 17h30 les deux jours. Retrouvez le programme\, réservation et inscription directement en ligne en cliquant ICI. Plus d’informations à contact@apinov.com ou directement au 05.46.34.10.71. \nCouplez cette session de formation avec la formation :  “Optimisez votre exploitation apicole grâce à une stratégie claire et efficace” des 18 et 19 novembre 2021 !
URL:https://www.apinov.com/event/formation-conduite-dexploitation-apicole-ameliorer-lorganisation-et-la-productivite-de-votre-cheptel/
CATEGORIES:Gestion d'exploitation
ATTACH;FMTTYPE=image/png:https://www.apinov.com/wp-content/uploads/2021/11/210224-Conduite-exploitation-post-1024x1024-1.png
END:VEVENT
END:VCALENDAR