BEGIN:VCALENDAR
VERSION:2.0
PRODID:-//APINOV - ECPv6.15.20//NONSGML v1.0//EN
CALSCALE:GREGORIAN
METHOD:PUBLISH
X-ORIGINAL-URL:https://www.apinov.com
X-WR-CALDESC:Évènements pour APINOV
REFRESH-INTERVAL;VALUE=DURATION:PT1H
X-Robots-Tag:noindex
X-PUBLISHED-TTL:PT1H
BEGIN:VTIMEZONE
TZID:Europe/Paris
BEGIN:DAYLIGHT
TZOFFSETFROM:+0100
TZOFFSETTO:+0200
TZNAME:CEST
DTSTART:20210328T010000
END:DAYLIGHT
BEGIN:STANDARD
TZOFFSETFROM:+0200
TZOFFSETTO:+0100
TZNAME:CET
DTSTART:20211031T010000
END:STANDARD
BEGIN:DAYLIGHT
TZOFFSETFROM:+0100
TZOFFSETTO:+0200
TZNAME:CEST
DTSTART:20220327T010000
END:DAYLIGHT
BEGIN:STANDARD
TZOFFSETFROM:+0200
TZOFFSETTO:+0100
TZNAME:CET
DTSTART:20221030T010000
END:STANDARD
BEGIN:DAYLIGHT
TZOFFSETFROM:+0100
TZOFFSETTO:+0200
TZNAME:CEST
DTSTART:20230326T010000
END:DAYLIGHT
BEGIN:STANDARD
TZOFFSETFROM:+0200
TZOFFSETTO:+0100
TZNAME:CET
DTSTART:20231029T010000
END:STANDARD
END:VTIMEZONE
BEGIN:VEVENT
DTSTART;TZID=Europe/Paris:20221005T090000
DTEND;TZID=Europe/Paris:20221007T173000
DTSTAMP:20260423T184651
CREATED:20220628T120540Z
LAST-MODIFIED:20220628T120540Z
UID:13836-1664960400-1665163800@www.apinov.com
SUMMARY:Formation "Communiquez pour mieux vendre en apiculture" et "Réseaux sociaux" - JURA - Julien COMPAGNON
DESCRIPTION:
URL:https://www.apinov.com/event/formation-communiquez-pour-mieux-vendre-en-apiculture-et-reseaux-sociaux-jura-julien-compagnon/
LOCATION:Chez Julien Compagnon\, 50 chemin de la poste\, Rue de la Lieme\,\, Pannessières\, JURA\, 39570
CATEGORIES:Gestion d'exploitation
ATTACH;FMTTYPE=image/jpeg:https://www.apinov.com/wp-content/uploads/2022/06/Facebook-acount.jpg
END:VEVENT
BEGIN:VEVENT
DTSTART;TZID=Europe/Paris:20221010T090000
DTEND;TZID=Europe/Paris:20221014T173000
DTSTAMP:20260423T184651
CREATED:20220509T154928Z
LAST-MODIFIED:20220509T154928Z
UID:13256-1665392400-1665768600@www.apinov.com
SUMMARY:S’installer en apiculture : Stratégie\, conduite d’exploitation et gestion financière
DESCRIPTION:
URL:https://www.apinov.com/event/sinstaller-en-apiculture-strategie-conduite-dexploitation-et-gestion-financiere/
LOCATION:Apinov\, Bâtiment l’Hexagone – 10 rue Henri Bessemer\, Lagord\, 17140\, France
CATEGORIES:Gestion d'exploitation
ATTACH;FMTTYPE=image/png:https://www.apinov.com/wp-content/uploads/2022/05/Sinstaller-en-apiculture-APINOV-Formation.png
END:VEVENT
END:VCALENDAR