BEGIN:VCALENDAR
VERSION:2.0
PRODID:-//APINOV - ECPv6.15.20//NONSGML v1.0//EN
CALSCALE:GREGORIAN
METHOD:PUBLISH
X-WR-CALNAME:APINOV
X-ORIGINAL-URL:https://www.apinov.com
X-WR-CALDESC:Évènements pour APINOV
REFRESH-INTERVAL;VALUE=DURATION:PT1H
X-Robots-Tag:noindex
X-PUBLISHED-TTL:PT1H
BEGIN:VTIMEZONE
TZID:Europe/Paris
BEGIN:DAYLIGHT
TZOFFSETFROM:+0100
TZOFFSETTO:+0200
TZNAME:CEST
DTSTART:20210328T010000
END:DAYLIGHT
BEGIN:STANDARD
TZOFFSETFROM:+0200
TZOFFSETTO:+0100
TZNAME:CET
DTSTART:20211031T010000
END:STANDARD
BEGIN:DAYLIGHT
TZOFFSETFROM:+0100
TZOFFSETTO:+0200
TZNAME:CEST
DTSTART:20220327T010000
END:DAYLIGHT
BEGIN:STANDARD
TZOFFSETFROM:+0200
TZOFFSETTO:+0100
TZNAME:CET
DTSTART:20221030T010000
END:STANDARD
BEGIN:DAYLIGHT
TZOFFSETFROM:+0100
TZOFFSETTO:+0200
TZNAME:CEST
DTSTART:20230326T010000
END:DAYLIGHT
BEGIN:STANDARD
TZOFFSETFROM:+0200
TZOFFSETTO:+0100
TZNAME:CET
DTSTART:20231029T010000
END:STANDARD
END:VTIMEZONE
BEGIN:VEVENT
DTSTART;TZID=Europe/Paris:20221109T090000
DTEND;TZID=Europe/Paris:20221110T173000
DTSTAMP:20260423T171222
CREATED:20221028T074926Z
LAST-MODIFIED:20221028T074926Z
UID:14746-1667984400-1668101400@www.apinov.com
SUMMARY:Formation "Stratégie d'entreprise apicole" - Thomas FRESLON - ÎLE DE FRANCE
DESCRIPTION:
URL:https://www.apinov.com/event/formation-strategie-dentreprise-apicole-thomas-freslon-ile-de-france/
LOCATION:Chambre d’agriculture de la région Île-de-France\, 418 rue Aristide Briand\, LE MÉE-SUR-SEINE\, Paris\, 77350
CATEGORIES:Gestion d'exploitation
ATTACH;FMTTYPE=image/jpeg:https://www.apinov.com/wp-content/uploads/2021/11/IMG_6872.jpg
END:VEVENT
BEGIN:VEVENT
DTSTART;TZID=Europe/Paris:20221117T090000
DTEND;TZID=Europe/Paris:20221118T173000
DTSTAMP:20260423T171222
CREATED:20211130T133715Z
LAST-MODIFIED:20211130T133715Z
UID:12147-1668675600-1668792600@www.apinov.com
SUMMARY:Optimisez votre exploitation apicole grâce à une stratégie claire et efficace - LA ROCHELLE
DESCRIPTION:
URL:https://www.apinov.com/event/optimisez-votre-exploitation-apicole-grace-a-une-strategie-claire-et-efficace-la-rochelle/
LOCATION:Apinov\, Bâtiment l’Hexagone – 10 rue Henri Bessemer\, Lagord\, 17140\, France
CATEGORIES:Gestion d'exploitation
ATTACH;FMTTYPE=image/jpeg:https://www.apinov.com/wp-content/uploads/2021/11/20210415_111558-scaled-1.jpg
END:VEVENT
BEGIN:VEVENT
DTSTART;TZID=Europe/Paris:20221121T090000
DTEND;TZID=Europe/Paris:20221122T173000
DTSTAMP:20260423T171222
CREATED:20211130T134048Z
LAST-MODIFIED:20211130T134048Z
UID:12149-1669021200-1669138200@www.apinov.com
SUMMARY:Conduite d’exploitation apicole - LA ROCHELLE
DESCRIPTION:
URL:https://www.apinov.com/event/conduite-dexploitation-apicole-la-rochelle/
LOCATION:Apinov\, Bâtiment l’Hexagone – 10 rue Henri Bessemer\, Lagord\, 17140\, France
CATEGORIES:Gestion d'exploitation
ATTACH;FMTTYPE=image/jpeg:https://www.apinov.com/wp-content/uploads/2021/11/20210426_113209.jpg
END:VEVENT
BEGIN:VEVENT
DTSTART;TZID=Europe/Paris:20221123T090000
DTEND;TZID=Europe/Paris:20221124T173000
DTSTAMP:20260423T171222
CREATED:20211130T134322Z
LAST-MODIFIED:20211130T134322Z
UID:12151-1669194000-1669311000@www.apinov.com
SUMMARY:Gestion financière et fiscale de son entreprise apicole
DESCRIPTION:
URL:https://www.apinov.com/event/gestion-financiere-et-fiscale-de-son-entreprise-apicole-2/
LOCATION:Apinov\, Bâtiment l’Hexagone – 10 rue Henri Bessemer\, Lagord\, 17140\, France
CATEGORIES:Gestion d'exploitation
ATTACH;FMTTYPE=image/jpeg:https://www.apinov.com/wp-content/uploads/2021/09/gestion-financiere-et-fiscale_02.jpg
END:VEVENT
END:VCALENDAR