BEGIN:VCALENDAR
VERSION:2.0
PRODID:-//APINOV - ECPv6.15.20//NONSGML v1.0//EN
CALSCALE:GREGORIAN
METHOD:PUBLISH
X-WR-CALNAME:APINOV
X-ORIGINAL-URL:https://www.apinov.com
X-WR-CALDESC:Évènements pour APINOV
REFRESH-INTERVAL;VALUE=DURATION:PT1H
X-Robots-Tag:noindex
X-PUBLISHED-TTL:PT1H
BEGIN:VTIMEZONE
TZID:Europe/Paris
BEGIN:DAYLIGHT
TZOFFSETFROM:+0100
TZOFFSETTO:+0200
TZNAME:CEST
DTSTART:20220327T010000
END:DAYLIGHT
BEGIN:STANDARD
TZOFFSETFROM:+0200
TZOFFSETTO:+0100
TZNAME:CET
DTSTART:20221030T010000
END:STANDARD
BEGIN:DAYLIGHT
TZOFFSETFROM:+0100
TZOFFSETTO:+0200
TZNAME:CEST
DTSTART:20230326T010000
END:DAYLIGHT
BEGIN:STANDARD
TZOFFSETFROM:+0200
TZOFFSETTO:+0100
TZNAME:CET
DTSTART:20231029T010000
END:STANDARD
BEGIN:DAYLIGHT
TZOFFSETFROM:+0100
TZOFFSETTO:+0200
TZNAME:CEST
DTSTART:20240331T010000
END:DAYLIGHT
BEGIN:STANDARD
TZOFFSETFROM:+0200
TZOFFSETTO:+0100
TZNAME:CET
DTSTART:20241027T010000
END:STANDARD
END:VTIMEZONE
BEGIN:VEVENT
DTSTART;TZID=Europe/Paris:20230209T090000
DTEND;TZID=Europe/Paris:20230210T173000
DTSTAMP:20260423T125025
CREATED:20221028T122440Z
LAST-MODIFIED:20221028T122440Z
UID:14756-1675933200-1676050200@www.apinov.com
SUMMARY:Formation Stratégie d'entreprise apicole - LA ROCHELLE
DESCRIPTION:
URL:https://www.apinov.com/event/formation-strategie-dentreprise-apicole-la-rochelle/
LOCATION:Apinov\, Bâtiment l’Hexagone – 10 rue Henri Bessemer\, Lagord\, 17140\, France
CATEGORIES:Gestion d'exploitation
ATTACH;FMTTYPE=image/png:https://www.apinov.com/wp-content/uploads/2022/05/Photo-Sinstaller-en-apiculture-Strategie-Apicole.png
END:VEVENT
BEGIN:VEVENT
DTSTART;TZID=Europe/Paris:20230213T090000
DTEND;TZID=Europe/Paris:20230214T173000
DTSTAMP:20260423T125025
CREATED:20221028T122611Z
LAST-MODIFIED:20221028T122611Z
UID:14758-1676278800-1676395800@www.apinov.com
SUMMARY:Conduite d'exploitation apicole - LA ROCHELLE
DESCRIPTION:
URL:https://www.apinov.com/event/conduite-dexploitation-apicole-la-rochelle-2/
LOCATION:Apinov\, Bâtiment l’Hexagone – 10 rue Henri Bessemer\, Lagord\, 17140\, France
CATEGORIES:Gestion d'exploitation
ATTACH;FMTTYPE=image/png:https://www.apinov.com/wp-content/uploads/2022/05/Photo-Sinstaller-en-apiculture-Conduite-de-ruches.png
END:VEVENT
BEGIN:VEVENT
DTSTART;TZID=Europe/Paris:20230215T090000
DTEND;TZID=Europe/Paris:20230216T173000
DTSTAMP:20260423T125025
CREATED:20221028T151229Z
LAST-MODIFIED:20221028T151241Z
UID:14760-1676451600-1676568600@www.apinov.com
SUMMARY:Gestion financière et fiscale apicole - LA ROCHELLE
DESCRIPTION:
URL:https://www.apinov.com/event/gestion-financiere-et-fiscale-la-rochelle/
LOCATION:Apinov\, Bâtiment l’Hexagone – 10 rue Henri Bessemer\, Lagord\, 17140\, France
CATEGORIES:Gestion d'exploitation
ATTACH;FMTTYPE=image/png:https://www.apinov.com/wp-content/uploads/2022/05/Photo-Sinstaller-en-apiculture-finances.png
END:VEVENT
BEGIN:VEVENT
DTSTART;TZID=Europe/Paris:20230220T090000
DTEND;TZID=Europe/Paris:20230221T173000
DTSTAMP:20260423T125025
CREATED:20211130T135009Z
LAST-MODIFIED:20221013T083613Z
UID:12154-1676883600-1677000600@www.apinov.com
SUMMARY:Communiquez pour mieux vendre en apiculture
DESCRIPTION:
URL:https://www.apinov.com/event/communiquez-pour-mieux-vendre-en-apiculture-2/
LOCATION:Apinov\, Bâtiment l’Hexagone – 10 rue Henri Bessemer\, Lagord\, 17140\, France
CATEGORIES:Gestion d'exploitation
ATTACH;FMTTYPE=image/jpeg:https://www.apinov.com/wp-content/uploads/2021/10/communiquez-pour-mieux-vendre_01.jpg
END:VEVENT
END:VCALENDAR