BEGIN:VCALENDAR
VERSION:2.0
PRODID:-//APINOV - ECPv6.15.20//NONSGML v1.0//EN
CALSCALE:GREGORIAN
METHOD:PUBLISH
X-WR-CALNAME:APINOV
X-ORIGINAL-URL:https://www.apinov.com
X-WR-CALDESC:Évènements pour APINOV
REFRESH-INTERVAL;VALUE=DURATION:PT1H
X-Robots-Tag:noindex
X-PUBLISHED-TTL:PT1H
BEGIN:VTIMEZONE
TZID:Europe/Paris
BEGIN:DAYLIGHT
TZOFFSETFROM:+0100
TZOFFSETTO:+0200
TZNAME:CEST
DTSTART:20230326T010000
END:DAYLIGHT
BEGIN:STANDARD
TZOFFSETFROM:+0200
TZOFFSETTO:+0100
TZNAME:CET
DTSTART:20231029T010000
END:STANDARD
BEGIN:DAYLIGHT
TZOFFSETFROM:+0100
TZOFFSETTO:+0200
TZNAME:CEST
DTSTART:20240331T010000
END:DAYLIGHT
BEGIN:STANDARD
TZOFFSETFROM:+0200
TZOFFSETTO:+0100
TZNAME:CET
DTSTART:20241027T010000
END:STANDARD
BEGIN:DAYLIGHT
TZOFFSETFROM:+0100
TZOFFSETTO:+0200
TZNAME:CEST
DTSTART:20250330T010000
END:DAYLIGHT
BEGIN:STANDARD
TZOFFSETFROM:+0200
TZOFFSETTO:+0100
TZNAME:CET
DTSTART:20251026T010000
END:STANDARD
END:VTIMEZONE
BEGIN:VEVENT
DTSTART;TZID=Europe/Paris:20240208T090000
DTEND;TZID=Europe/Paris:20240209T173000
DTSTAMP:20260422T193246
CREATED:20231020T100835Z
LAST-MODIFIED:20240812T094451Z
UID:15926-1707382800-1707499800@www.apinov.com
SUMMARY:Organisation et planification apicole
DESCRIPTION:
URL:https://www.apinov.com/event/formation-optimisez-votre-exploitation-strategie-dentreprise-apicole/
LOCATION:Apinov\, Bâtiment l’Hexagone – 10 rue Henri Bessemer\, Lagord\, 17140\, France
CATEGORIES:Gestion d'exploitation
ATTACH;FMTTYPE=image/jpeg:https://www.apinov.com/wp-content/uploads/2021/11/IMG_6872.jpg
END:VEVENT
END:VCALENDAR